BEGIN:VCALENDAR
VERSION:2.0
PRODID:-//Sabre//Sabre VObject 4.5.8//EN
CALSCALE:GREGORIAN
BEGIN:VEVENT
UID:sabre-vobject-d1250be9-7728-4ede-8e8f-9a873ed8679c
DTSTAMP:20260425T115925Z
SUMMARY:Teen Bowl Takeover
DESCRIPTION:Strike Zone Bowling Center invites teens to enjoy themed Saturd
 ay nights full of connection\, laughter\, and nonstop fun&mdash\;all with 
 a fresh vibe each month and the same epic lanes.\n
X-ALT-DESC:FMTTYPE=text/html:<!DOCTYPE HTML PUBLIC "-//W3C//DTD HTML 3.2//E
 N"><HTML><p>Strike Zone Bowling Center invites teens to enjoy themed Satur
 day nights full of connection\, laughter\, and nonstop fun&mdash\;all with
  a fresh vibe each month and the same epic lanes.</p>\n</HTML>
CREATED;TZID=America/New_York:20260323T090741
URL;VALUE=URI:https://carlisle.armymwr.com/calendar/event
DTSTART;TZID=America/New_York:20250906T180000
DTEND;TZID=America/New_York:20250906T210000
SEQUENCE:0
END:VEVENT
END:VCALENDAR
