BEGIN:VCALENDAR
VERSION:2.0
PRODID:-//Sabre//Sabre VObject 4.5.8//EN
CALSCALE:GREGORIAN
BEGIN:VEVENT
UID:sabre-vobject-ed5f9646-d528-40f7-84c2-d301a9798f91
DTSTAMP:20260425T103844Z
SUMMARY:Winter Indoor Climbing Series
DESCRIPTION:For individuals 8 years old and over\, from beginner to advance
 d!&nbsp\;Register by Wednesday\, 18 February 2026. Open to the public.\n
X-ALT-DESC:FMTTYPE=text/html:<!DOCTYPE HTML PUBLIC "-//W3C//DTD HTML 3.2//E
 N"><HTML><p>For individuals 8 years old and over\, from beginner to advanc
 ed!&nbsp\;<strong>Register by Wednesday\, 18 February 2026. Open to the pu
 blic.</strong></p>\n</HTML>
CREATED;TZID=America/New_York:20260112T103925
URL;VALUE=URI:https://carlisle.armymwr.com/calendar/event
DTSTART;TZID=America/New_York:20260222T154500
DTEND;TZID=America/New_York:20260222T174500
SEQUENCE:0
END:VEVENT
END:VCALENDAR
