BEGIN:VCALENDAR
VERSION:2.0
PRODID:-//Sabre//Sabre VObject 4.5.8//EN
CALSCALE:GREGORIAN
BEGIN:VEVENT
UID:sabre-vobject-90770704-cfb9-4a00-8a12-b71094740a82
DTSTAMP:20260425T224009Z
SUMMARY:Spring Instructional Golf Program
DESCRIPTION:Child and Youth Services Youth Sports &amp\; Fitness - Register
  by 1 April\n
X-ALT-DESC:FMTTYPE=text/html:<!DOCTYPE HTML PUBLIC "-//W3C//DTD HTML 3.2//E
 N"><HTML><p>Child and Youth Services Youth Sports &amp\; Fitness - <strong
 >Register by 1 April</strong></p>\n</HTML>
CREATED;TZID=America/New_York:20260407T095854
URL;VALUE=URI:https://carlisle.armymwr.com/calendar/event
DTSTART;TZID=America/New_York:20260411T080000
DTEND;TZID=America/New_York:20260411T110000
SEQUENCE:0
END:VEVENT
END:VCALENDAR
