BEGIN:VCALENDAR
VERSION:2.0
PRODID:-//Sabre//Sabre VObject 4.5.8//EN
CALSCALE:GREGORIAN
BEGIN:VEVENT
UID:sabre-vobject-45349a07-1ef9-4616-b172-8737a64eefc9
DTSTAMP:20260425T005928Z
SUMMARY:Brewery Adventure
DESCRIPTION:Leisure Travel Services (LTS) is planning a small group trip to
  three breweries in PA including America&#39\;s Oldest Brewery.&nbsp\;Rese
 rve your seats by 27 February.&nbsp\;\n
X-ALT-DESC:FMTTYPE=text/html:<!DOCTYPE HTML PUBLIC "-//W3C//DTD HTML 3.2//E
 N"><HTML><p>Leisure Travel Services (LTS) is planning a small group trip t
 o three breweries in PA including America&#39\;s Oldest Brewery.&nbsp\;<st
 rong>Reserve your seats by 27 February.&nbsp\;</strong></p>\n</HTML>
CREATED;TZID=America/New_York:20260112T082553
URL;VALUE=URI:https://carlisle.armymwr.com/calendar/event
DTSTART;TZID=America/New_York:20260314T083000
DTEND;TZID=America/New_York:20260314T170000
SEQUENCE:0
END:VEVENT
END:VCALENDAR
