BEGIN:VCALENDAR
VERSION:2.0
PRODID:-//Sabre//Sabre VObject 4.5.8//EN
CALSCALE:GREGORIAN
BEGIN:VEVENT
UID:sabre-vobject-724fc8fe-e58e-420a-8a4d-0cc8c4438ad0
DTSTAMP:20260424T022033Z
SUMMARY:Cherry Blossom Festival Washington\, D.C. Day Trip - On Your Own
DESCRIPTION:Leisure Travel Services (LTS) is planning a spring trip to Wash
 ington\, D.C. Reserve your seats by 11 March.\n
X-ALT-DESC:FMTTYPE=text/html:<!DOCTYPE HTML PUBLIC "-//W3C//DTD HTML 3.2//E
 N"><HTML><p>Leisure Travel Services (LTS) is planning a spring trip to Was
 hington\, D.C. <strong>Reserve your seats by 11 March</strong>.</p>\n</HTM
 L>
CREATED;TZID=America/New_York:20260421T132557
URL;VALUE=URI:https://carlisle.armymwr.com/calendar/event
DTSTART;TZID=America/New_York:20260321T073000
DTEND;TZID=America/New_York:20260321T210000
SEQUENCE:0
END:VEVENT
END:VCALENDAR
