BEGIN:VCALENDAR
VERSION:2.0
PRODID:-//Sabre//Sabre VObject 4.5.8//EN
CALSCALE:GREGORIAN
BEGIN:VEVENT
UID:sabre-vobject-1ee22731-0b14-4920-bbb8-35a7cb17c1b2
DTSTAMP:20260420T110706Z
SUMMARY:Cherry Blossom Festival Washington\, D.C. Day Trip - Last Day to Si
 gn Up
DESCRIPTION:Leisure Travel Services (LTS) is planning a spring trip to Wash
 ington\, D.C. Reserve your seats by 11 March or 11 April.\n
X-ALT-DESC:FMTTYPE=text/html:<!DOCTYPE HTML PUBLIC "-//W3C//DTD HTML 3.2//E
 N"><HTML><p>Leisure Travel Services (LTS) is planning a spring trip to Was
 hington\, D.C. <strong>Reserve your seats by 11 March or 11 April</strong>
 .</p>\n</HTML>
CREATED;TZID=America/New_York:20260210T094015
URL;VALUE=URI:https://carlisle.armymwr.com/calendar/event
DTSTART;TZID=America/New_York:20260311T000000
DTEND;TZID=America/New_York:20260311T235959
SEQUENCE:0
END:VEVENT
BEGIN:VEVENT
UID:sabre-vobject-e4ff1a7c-f183-4397-a565-9fbc7ba533a1
DTSTAMP:20260420T110706Z
SUMMARY:Cherry Blossom Festival Washington\, D.C. Day Trip - Last Day to Si
 gn Up
DESCRIPTION:Leisure Travel Services (LTS) is planning a spring trip to Wash
 ington\, D.C. Reserve your seats by 11 March or 11 April.\n
X-ALT-DESC:FMTTYPE=text/html:<!DOCTYPE HTML PUBLIC "-//W3C//DTD HTML 3.2//E
 N"><HTML><p>Leisure Travel Services (LTS) is planning a spring trip to Was
 hington\, D.C. <strong>Reserve your seats by 11 March or 11 April</strong>
 .</p>\n</HTML>
CREATED;TZID=America/New_York:20260210T094015
URL;VALUE=URI:https://carlisle.armymwr.com/calendar/event
DTSTART;TZID=America/New_York:20260401T000000
DTEND;TZID=America/New_York:20260401T235959
SEQUENCE:1
END:VEVENT
END:VCALENDAR
