BEGIN:VCALENDAR
VERSION:2.0
PRODID:-//Sabre//Sabre VObject 4.5.8//EN
CALSCALE:GREGORIAN
BEGIN:VEVENT
UID:sabre-vobject-d4319394-fa56-4499-a914-48f7abdca890
DTSTAMP:20260424T190018Z
SUMMARY:Winery Tour - South
DESCRIPTION:Leisure Travel Services (LTS) plans a small group trip to local
  wineries\, brewery\, and historical central Pennsylvania spots.&nbsp\;Res
 erve your seats by 1 June.&nbsp\;\n
X-ALT-DESC:FMTTYPE=text/html:<!DOCTYPE HTML PUBLIC "-//W3C//DTD HTML 3.2//E
 N"><HTML><p>Leisure Travel Services (LTS) plans a small group trip to loca
 l wineries\, brewery\, and historical central Pennsylvania spots.&nbsp\;<s
 trong>Reserve your seats by 1 June.&nbsp\;</strong></p>\n</HTML>
CREATED;TZID=America/New_York:20260423T102316
URL;VALUE=URI:https://carlisle.armymwr.com/calendar/event
DTSTART;TZID=America/New_York:20260613T090000
DTEND;TZID=America/New_York:20260613T170000
SEQUENCE:0
END:VEVENT
END:VCALENDAR
