BEGIN:VCALENDAR
VERSION:2.0
PRODID:-//Sabre//Sabre VObject 4.5.8//EN
CALSCALE:GREGORIAN
BEGIN:VEVENT
UID:sabre-vobject-ac93b2f9-4e03-42a5-9a55-4bdbb2a895b7
DTSTAMP:20260425T224517Z
SUMMARY:Harlem Globetrotters
DESCRIPTION:
X-ALT-DESC:FMTTYPE=text/html:<!DOCTYPE HTML PUBLIC "-//W3C//DTD HTML 3.2//E
 N"><HTML></HTML>
CREATED;TZID=America/New_York:20190115T132224
URL;VALUE=URI:https://carlisle.armymwr.com/calendar/event
DTSTART;TZID=America/New_York:20190224T140000
DTEND;TZID=America/New_York:20190224T170000
SEQUENCE:0
END:VEVENT
END:VCALENDAR
