BEGIN:VCALENDAR
VERSION:2.0
PRODID:-//Sabre//Sabre VObject 4.5.8//EN
CALSCALE:GREGORIAN
BEGIN:VEVENT
UID:sabre-vobject-e3c37bcc-dc43-4f43-94ef-3296f1c2ca40
DTSTAMP:20260424T021232Z
SUMMARY:Washington DC Cherry Blossom Festival
DESCRIPTION:
X-ALT-DESC:FMTTYPE=text/html:<!DOCTYPE HTML PUBLIC "-//W3C//DTD HTML 3.2//E
 N"><HTML></HTML>
CREATED;TZID=America/New_York:20190115T133739
URL;VALUE=URI:https://carlisle.armymwr.com/calendar/event
DTSTART;TZID=America/New_York:20190406T073000
DTEND;TZID=America/New_York:20190406T213000
SEQUENCE:0
END:VEVENT
END:VCALENDAR
