BEGIN:VCALENDAR
VERSION:2.0
PRODID:-//Sabre//Sabre VObject 4.5.8//EN
CALSCALE:GREGORIAN
BEGIN:VEVENT
UID:sabre-vobject-35dcf25a-1272-464c-80ec-1b7e5a60985e
DTSTAMP:20260425T121426Z
SUMMARY:St. Patricks Day Bash 
DESCRIPTION:
X-ALT-DESC:FMTTYPE=text/html:<!DOCTYPE HTML PUBLIC "-//W3C//DTD HTML 3.2//E
 N"><HTML></HTML>
CREATED;TZID=America/New_York:20190117T142815
URL;VALUE=URI:https://carlisle.armymwr.com/calendar/event
DTSTART;TZID=America/New_York:20190314T160000
DTEND;TZID=America/New_York:20190314T210000
SEQUENCE:0
END:VEVENT
END:VCALENDAR
