BEGIN:VCALENDAR
VERSION:2.0
PRODID:-//Sabre//Sabre VObject 4.5.8//EN
CALSCALE:GREGORIAN
BEGIN:VEVENT
UID:sabre-vobject-fc5a70cb-1bef-46a1-85f0-604772d66a24
DTSTAMP:20260422T034001Z
SUMMARY:New York City - Ground Zero Memorial Park “Day On Your Own”
DESCRIPTION:
X-ALT-DESC:FMTTYPE=text/html:<!DOCTYPE HTML PUBLIC "-//W3C//DTD HTML 3.2//E
 N"><HTML></HTML>
CREATED;TZID=America/New_York:20190530T113328
URL;VALUE=URI:https://carlisle.armymwr.com/calendar/event
DTSTART;TZID=America/New_York:20190622T073000
DTEND;TZID=America/New_York:20190622T233000
SEQUENCE:0
END:VEVENT
END:VCALENDAR
