BEGIN:VCALENDAR
VERSION:2.0
PRODID:-//Sabre//Sabre VObject 4.5.8//EN
CALSCALE:GREGORIAN
BEGIN:VEVENT
UID:sabre-vobject-2d130f5c-5966-45b4-b70a-94bbc73038f9
DTSTAMP:20260421T101222Z
SUMMARY:Welcome Expo 2019
DESCRIPTION:
X-ALT-DESC:FMTTYPE=text/html:<!DOCTYPE HTML PUBLIC "-//W3C//DTD HTML 3.2//E
 N"><HTML></HTML>
CREATED;TZID=America/New_York:20190530T155516
URL;VALUE=URI:https://carlisle.armymwr.com/calendar/event
DTSTART;TZID=America/New_York:20190807T090000
DTEND;TZID=America/New_York:20190807T130000
SEQUENCE:0
END:VEVENT
END:VCALENDAR
