BEGIN:VCALENDAR
VERSION:2.0
PRODID:-//Sabre//Sabre VObject 4.5.8//EN
CALSCALE:GREGORIAN
BEGIN:VEVENT
UID:sabre-vobject-6aee06c0-1688-446c-abfc-11c8b44d0e33
DTSTAMP:20260421T063927Z
SUMMARY:High School Welcome Jam 
DESCRIPTION:
X-ALT-DESC:FMTTYPE=text/html:<!DOCTYPE HTML PUBLIC "-//W3C//DTD HTML 3.2//E
 N"><HTML></HTML>
CREATED;TZID=America/New_York:20190611T135413
URL;VALUE=URI:https://carlisle.armymwr.com/calendar/event
DTSTART;TZID=America/New_York:20190730T180000
DTEND;TZID=America/New_York:20190730T210000
SEQUENCE:0
END:VEVENT
END:VCALENDAR
