BEGIN:VCALENDAR
VERSION:2.0
PRODID:-//Sabre//Sabre VObject 4.5.8//EN
CALSCALE:GREGORIAN
BEGIN:VEVENT
UID:sabre-vobject-9bc533b9-4b1b-4693-8507-b19ea2172310
DTSTAMP:20260421T063925Z
SUMMARY:Babysitter Course 
DESCRIPTION:
X-ALT-DESC:FMTTYPE=text/html:<!DOCTYPE HTML PUBLIC "-//W3C//DTD HTML 3.2//E
 N"><HTML></HTML>
CREATED;TZID=America/New_York:20190618T161815
URL;VALUE=URI:https://carlisle.armymwr.com/calendar/event
DTSTART;TZID=America/New_York:20190805T080000
DTEND;TZID=America/New_York:20190805T153000
SEQUENCE:0
END:VEVENT
BEGIN:VEVENT
UID:sabre-vobject-88dcef44-df7b-47cc-ac30-b8f1d2e9ec91
DTSTAMP:20260421T063925Z
SUMMARY:Babysitter Course 
DESCRIPTION:
X-ALT-DESC:FMTTYPE=text/html:<!DOCTYPE HTML PUBLIC "-//W3C//DTD HTML 3.2//E
 N"><HTML></HTML>
CREATED;TZID=America/New_York:20190618T161815
URL;VALUE=URI:https://carlisle.armymwr.com/calendar/event
DTSTART;TZID=America/New_York:20190806T080000
DTEND;TZID=America/New_York:20190806T153000
SEQUENCE:1
END:VEVENT
END:VCALENDAR
