BEGIN:VCALENDAR
VERSION:2.0
PRODID:-//Sabre//Sabre VObject 4.5.8//EN
CALSCALE:GREGORIAN
BEGIN:VEVENT
UID:sabre-vobject-999e99d2-5480-450c-b6e7-ec21d0274a94
DTSTAMP:20260421T100345Z
SUMMARY:Elementary Ice Cream Social 
DESCRIPTION:
X-ALT-DESC:FMTTYPE=text/html:<!DOCTYPE HTML PUBLIC "-//W3C//DTD HTML 3.2//E
 N"><HTML></HTML>
CREATED;TZID=America/New_York:20190628T144957
URL;VALUE=URI:https://carlisle.armymwr.com/calendar/event
DTSTART;TZID=America/New_York:20190812T180000
DTEND;TZID=America/New_York:20190812T200000
SEQUENCE:0
END:VEVENT
END:VCALENDAR
