BEGIN:VCALENDAR
VERSION:2.0
PRODID:-//Sabre//Sabre VObject 4.5.8//EN
CALSCALE:GREGORIAN
BEGIN:VEVENT
UID:sabre-vobject-4247a842-5f90-40f1-ab38-17c34a3ac5ed
DTSTAMP:20260421T103259Z
SUMMARY:Barracks Crossing FALL BONANZA
DESCRIPTION:
X-ALT-DESC:FMTTYPE=text/html:<!DOCTYPE HTML PUBLIC "-//W3C//DTD HTML 3.2//E
 N"><HTML></HTML>
CREATED;TZID=America/New_York:20190818T010201
URL;VALUE=URI:https://carlisle.armymwr.com/calendar/event
DTSTART;TZID=America/New_York:20190914T113000
DTEND;TZID=America/New_York:20190914T140000
SEQUENCE:0
END:VEVENT
END:VCALENDAR
