BEGIN:VCALENDAR
VERSION:2.0
PRODID:-//Sabre//Sabre VObject 4.5.8//EN
CALSCALE:GREGORIAN
BEGIN:VEVENT
UID:sabre-vobject-ab6800ed-8cdf-4a4c-9b1b-8deb5a539836
DTSTAMP:20260421T103303Z
SUMMARY:MST Laserdome Trip 
DESCRIPTION:
X-ALT-DESC:FMTTYPE=text/html:<!DOCTYPE HTML PUBLIC "-//W3C//DTD HTML 3.2//E
 N"><HTML></HTML>
CREATED;TZID=America/New_York:20190903T105032
URL;VALUE=URI:https://carlisle.armymwr.com/calendar/event
DTSTART;TZID=America/New_York:20190914T110000
DTEND;TZID=America/New_York:20190914T170000
SEQUENCE:0
END:VEVENT
END:VCALENDAR
