BEGIN:VCALENDAR
VERSION:2.0
PRODID:-//Sabre//Sabre VObject 4.5.8//EN
CALSCALE:GREGORIAN
BEGIN:VEVENT
UID:sabre-vobject-0d6d3f78-626d-48de-8a4a-511791cb3b20
DTSTAMP:20260421T103304Z
SUMMARY:Hershey Park In the Dark\, MST Trip 
DESCRIPTION:
X-ALT-DESC:FMTTYPE=text/html:<!DOCTYPE HTML PUBLIC "-//W3C//DTD HTML 3.2//E
 N"><HTML></HTML>
CREATED;TZID=America/New_York:20190903T133452
URL;VALUE=URI:https://carlisle.armymwr.com/calendar/event
DTSTART;TZID=America/New_York:20191019T110000
DTEND;TZID=America/New_York:20191019T190000
SEQUENCE:0
END:VEVENT
END:VCALENDAR
