BEGIN:VCALENDAR
VERSION:2.0
PRODID:-//Sabre//Sabre VObject 4.5.8//EN
CALSCALE:GREGORIAN
BEGIN:VEVENT
UID:sabre-vobject-5f701045-794c-4482-888d-8485646fda0d
DTSTAMP:20260421T121530Z
SUMMARY:Carlisle Barracks MWR Job Fair at CareerLink!
DESCRIPTION:
X-ALT-DESC:FMTTYPE=text/html:<!DOCTYPE HTML PUBLIC "-//W3C//DTD HTML 3.2//E
 N"><HTML></HTML>
CREATED;TZID=America/New_York:20191023T134737
URL;VALUE=URI:https://carlisle.armymwr.com/calendar/event
DTSTART;TZID=America/New_York:20191025T100000
DTEND;TZID=America/New_York:20191025T140000
SEQUENCE:0
END:VEVENT
END:VCALENDAR
