BEGIN:VCALENDAR
VERSION:2.0
PRODID:-//Sabre//Sabre VObject 4.5.8//EN
CALSCALE:GREGORIAN
BEGIN:VEVENT
UID:sabre-vobject-4826dfaf-f444-4b3f-aa80-e737fe2e8fc4
DTSTAMP:20260421T084157Z
SUMMARY:Backcountry Gourmet Clinic Series: Desserts
DESCRIPTION:
X-ALT-DESC:FMTTYPE=text/html:<!DOCTYPE HTML PUBLIC "-//W3C//DTD HTML 3.2//E
 N"><HTML></HTML>
CREATED;TZID=America/New_York:20200708T150010
URL;VALUE=URI:https://carlisle.armymwr.com/calendar/event
DTSTART;TZID=America/New_York:20200715T170000
DTEND;TZID=America/New_York:20200715T200000
SEQUENCE:0
END:VEVENT
END:VCALENDAR
