BEGIN:VCALENDAR
VERSION:2.0
PRODID:-//Sabre//Sabre VObject 4.5.8//EN
CALSCALE:GREGORIAN
BEGIN:VEVENT
UID:sabre-vobject-c808a423-689d-4002-b958-41fa91a5b815
DTSTAMP:20260420T005101Z
SUMMARY:Yuengling Brewery Tour
DESCRIPTION:Leisure Travel Services (LTS) is planning a small group trip to
  the town of Pottsville\, PA.&nbsp\;Reserve your seats by 23 January 2025.
 &nbsp\;\n
X-ALT-DESC:FMTTYPE=text/html:<!DOCTYPE HTML PUBLIC "-//W3C//DTD HTML 3.2//E
 N"><HTML><p>Leisure Travel Services (LTS) is planning a small group trip t
 o the town of Pottsville\, PA.&nbsp\;<strong>Reserve your seats by 23 Janu
 ary 2025.&nbsp\;</strong></p>\n</HTML>
CREATED;TZID=America/New_York:20241113T124354
URL;VALUE=URI:https://carlisle.armymwr.com/calendar/event
DTSTART;TZID=America/New_York:20250130T090000
DTEND;TZID=America/New_York:20250130T153000
SEQUENCE:0
END:VEVENT
END:VCALENDAR
