BEGIN:VCALENDAR
VERSION:2.0
PRODID:-//Sabre//Sabre VObject 4.5.8//EN
CALSCALE:GREGORIAN
BEGIN:VEVENT
UID:sabre-vobject-0a27adec-6259-4bf8-9e6f-d38bab7f916c
DTSTAMP:20260420T142808Z
SUMMARY:Body Blast TRX & Row
DESCRIPTION:Jim Thorpe Fitness Center\n
X-ALT-DESC:FMTTYPE=text/html:<!DOCTYPE HTML PUBLIC "-//W3C//DTD HTML 3.2//E
 N"><HTML><p>Jim Thorpe Fitness Center</p>\n</HTML>
CREATED;TZID=America/New_York:20250108T135841
URL;VALUE=URI:https://carlisle.armymwr.com/calendar/event
DTSTART;TZID=America/New_York:20250123T090000
DTEND;TZID=America/New_York:20250123T100000
SEQUENCE:0
END:VEVENT
END:VCALENDAR
