BEGIN:VCALENDAR
VERSION:2.0
PRODID:-//Sabre//Sabre VObject 4.5.8//EN
CALSCALE:GREGORIAN
BEGIN:VEVENT
UID:sabre-vobject-a414ab6c-646b-47d9-8abf-c448db22524b
DTSTAMP:20260420T161657Z
SUMMARY:Climbing Wall Club CANCELLED
DESCRIPTION:Due to unforeseen circumstances with heating issues\, the Climb
 ing Wall Club is cancelled for tonight\, 23 January 2025. We apologize for
  any inconvenience this may cause.\n
X-ALT-DESC:FMTTYPE=text/html:<!DOCTYPE HTML PUBLIC "-//W3C//DTD HTML 3.2//E
 N"><HTML><p>Due to unforeseen circumstances with heating issues\, the Clim
 bing Wall Club is cancelled for tonight\, 23 January 2025. We apologize fo
 r any inconvenience this may cause.</p>\n</HTML>
CREATED;TZID=America/New_York:20250123T111849
URL;VALUE=URI:https://carlisle.armymwr.com/calendar/event
DTSTART;TZID=America/New_York:20250123T160000
DTEND;TZID=America/New_York:20250123T171500
SEQUENCE:0
END:VEVENT
END:VCALENDAR
