BEGIN:VCALENDAR
VERSION:2.0
PRODID:-//Sabre//Sabre VObject 4.5.8//EN
CALSCALE:GREGORIAN
BEGIN:VEVENT
UID:sabre-vobject-366f7ba2-5970-4f49-b654-e4ebc21c84dd
DTSTAMP:20260420T194854Z
SUMMARY:Kickboxing - Cancel
DESCRIPTION:Jim Thorpe Fitness Center\n
X-ALT-DESC:FMTTYPE=text/html:<!DOCTYPE HTML PUBLIC "-//W3C//DTD HTML 3.2//E
 N"><HTML><p>Jim Thorpe Fitness Center</p>\n</HTML>
CREATED;TZID=America/New_York:20250128T081731
URL;VALUE=URI:https://carlisle.armymwr.com/calendar/event
DTSTART;TZID=America/New_York:20250128T120000
DTEND;TZID=America/New_York:20250128T123000
SEQUENCE:0
END:VEVENT
END:VCALENDAR
