BEGIN:VCALENDAR
VERSION:2.0
PRODID:-//Sabre//Sabre VObject 4.5.8//EN
CALSCALE:GREGORIAN
BEGIN:VEVENT
UID:sabre-vobject-32ca8f95-9c61-4c8b-812a-1d0434005604
DTSTAMP:20260419T193556Z
SUMMARY:Tuesday Fitness Classes
DESCRIPTION:Root Hall Gym - Due to the flooring renovations at Jim Thorpe F
 itness Center\, classes will be held in the Root Hall Gymnasium. Class par
 ticipants must hand-carry a pair of shoes to attend a fitness class. No st
 reet shoes are allowed on the courts.\n
X-ALT-DESC:FMTTYPE=text/html:<!DOCTYPE HTML PUBLIC "-//W3C//DTD HTML 3.2//E
 N"><HTML><p>Root Hall Gym - Due to the flooring renovations at Jim Thorpe 
 Fitness Center\, classes will be held in the Root Hall Gymnasium. Class pa
 rticipants must hand-carry a pair of shoes to attend a fitness class. No s
 treet shoes are allowed on the courts.</p>\n</HTML>
CREATED;TZID=America/New_York:20250131T142833
URL;VALUE=URI:https://carlisle.armymwr.com/calendar/event
DTSTART;TZID=America/New_York:20250204T000000
DTEND;TZID=America/New_York:20250204T235959
SEQUENCE:0
END:VEVENT
END:VCALENDAR
