BEGIN:VCALENDAR
VERSION:2.0
PRODID:-//Sabre//Sabre VObject 4.5.8//EN
CALSCALE:GREGORIAN
BEGIN:VEVENT
UID:sabre-vobject-a845b6cc-ffbc-48bf-b60f-d76f3f0fa76d
DTSTAMP:20260419T233949Z
SUMMARY:Wednesday Fitness Class
DESCRIPTION:Root Hall Gym -&nbsp\;Due to the flooring renovations at Jim Th
 orpe Fitness Center\, classes will be held in the Root Hall Gymnasium. Cla
 ss participants must hand-carry a pair of shoes to attend a fitness class.
  No street shoes are allowed on the courts.\n
X-ALT-DESC:FMTTYPE=text/html:<!DOCTYPE HTML PUBLIC "-//W3C//DTD HTML 3.2//E
 N"><HTML><p>Root Hall Gym -&nbsp\;Due to the flooring renovations at Jim T
 horpe Fitness Center\, classes will be held in the Root Hall Gymnasium. Cl
 ass participants must hand-carry a pair of shoes to attend a fitness class
 . No street shoes are allowed on the courts.</p>\n</HTML>
CREATED;TZID=America/New_York:20250131T145534
URL;VALUE=URI:https://carlisle.armymwr.com/calendar/event
DTSTART;TZID=America/New_York:20250205T000000
DTEND;TZID=America/New_York:20250205T235959
SEQUENCE:0
END:VEVENT
END:VCALENDAR
