BEGIN:VCALENDAR
VERSION:2.0
PRODID:-//Sabre//Sabre VObject 4.5.8//EN
CALSCALE:GREGORIAN
BEGIN:VEVENT
UID:sabre-vobject-dd7e13e5-9cb9-4d53-b53e-1689759e9fa8
DTSTAMP:20260419T231701Z
SUMMARY:Thursday Fitness Classes
DESCRIPTION:Jim Thorpe Fitness Center\n
X-ALT-DESC:FMTTYPE=text/html:<!DOCTYPE HTML PUBLIC "-//W3C//DTD HTML 3.2//E
 N"><HTML><p>Jim Thorpe Fitness Center</p>\n</HTML>
CREATED;TZID=America/New_York:20250131T154537
URL;VALUE=URI:https://carlisle.armymwr.com/calendar/event
DTSTART;TZID=America/New_York:20250220T000000
DTEND;TZID=America/New_York:20250220T235959
SEQUENCE:0
END:VEVENT
END:VCALENDAR
